BEGIN:VCALENDAR
VERSION:2.0
PRODID:-//104.1 The Wave - ECPv4.6.26//NONSGML v1.0//EN
CALSCALE:GREGORIAN
METHOD:PUBLISH
X-WR-CALNAME:104.1 The Wave
X-ORIGINAL-URL:https://thewavewoodstock.com
X-WR-CALDESC:Events for 104.1 The Wave
BEGIN:VEVENT
DTSTART;TZID=America/Halifax:20260425T073000
DTEND;TZID=America/Halifax:20260425T100000
DTSTAMP:20260421T074836
CREATED:20260420T084450Z
LAST-MODIFIED:20260420T084450Z
UID:941-1777102200-1777111200@thewavewoodstock.com
SUMMARY:Breakfast - Pembroke
DESCRIPTION: \n
URL:https://thewavewoodstock.com/event/breakfast-pembroke/
END:VEVENT
END:VCALENDAR